BEGIN:VCALENDAR
VERSION:2.0
PRODID:-//AvaUnity - ECPv6.15.3//NONSGML v1.0//EN
CALSCALE:GREGORIAN
METHOD:PUBLISH
X-ORIGINAL-URL:https://avaunity.com
X-WR-CALDESC:Events for AvaUnity
REFRESH-INTERVAL;VALUE=DURATION:PT1H
X-Robots-Tag:noindex
X-PUBLISHED-TTL:PT1H
BEGIN:VTIMEZONE
TZID:America/Chicago
BEGIN:DAYLIGHT
TZOFFSETFROM:-0600
TZOFFSETTO:-0500
TZNAME:CDT
DTSTART:20190310T080000
END:DAYLIGHT
BEGIN:STANDARD
TZOFFSETFROM:-0500
TZOFFSETTO:-0600
TZNAME:CST
DTSTART:20191103T070000
END:STANDARD
END:VTIMEZONE
BEGIN:VEVENT
DTSTART;TZID=America/Chicago:20190311T080000
DTEND;TZID=America/Chicago:20190315T170000
DTSTAMP:20260425T084854
CREATED:20190307T205421Z
LAST-MODIFIED:20190307T205725Z
UID:10959-1552291200-1552669200@avaunity.com
SUMMARY:Cloud Architect
DESCRIPTION:
URL:https://avaunity.com/event/cloud-architect/
LOCATION:ONLINE
CATEGORIES:Cloud Architect NanoDegree,CompTIA,Digital Entrepreneur Series,Event/Course Calendar,Webinar
ORGANIZER;CN="Ava Academy":MAILTO:academy@avaunity.com
END:VEVENT
END:VCALENDAR