BEGIN:VCALENDAR
VERSION:2.0
PRODID:-//AvaUnity - ECPv6.15.3//NONSGML v1.0//EN
CALSCALE:GREGORIAN
METHOD:PUBLISH
X-ORIGINAL-URL:https://avaunity.com
X-WR-CALDESC:Events for AvaUnity
REFRESH-INTERVAL;VALUE=DURATION:PT1H
X-Robots-Tag:noindex
X-PUBLISHED-TTL:PT1H
BEGIN:VTIMEZONE
TZID:America/Chicago
BEGIN:DAYLIGHT
TZOFFSETFROM:-0600
TZOFFSETTO:-0500
TZNAME:CDT
DTSTART:20180311T080000
END:DAYLIGHT
BEGIN:STANDARD
TZOFFSETFROM:-0500
TZOFFSETTO:-0600
TZNAME:CST
DTSTART:20181104T070000
END:STANDARD
END:VTIMEZONE
BEGIN:VEVENT
DTSTART;TZID=America/Chicago:20180806T090000
DTEND;TZID=America/Chicago:20180810T170000
DTSTAMP:20260424T223927
CREATED:20180430T154112Z
LAST-MODIFIED:20181211T163511Z
UID:1640-1533546000-1533920400@avaunity.com
SUMMARY:CompTIA Cloud Essentials
DESCRIPTION:You must use a voucher code to schedule this course. The voucher code is issued when you purchase the CompTIA Cloud Essentials Premium Access plan or the CompTIA Cloud Security Technologist Premium  Access plan
URL:https://avaunity.com/event/comptia-cloud-essentials-english/
LOCATION:ONLINE
CATEGORIES:CompTIA,Event/Course Calendar
ATTACH;FMTTYPE=image/jpeg:https://avaunity.com/wp-content/uploads/2018/04/Cloud-Essentials-Logo-1-e1525731555228.jpg
ORGANIZER;CN="Ava Academy":MAILTO:academy@avaunity.com
END:VEVENT
BEGIN:VEVENT
DTSTART;TZID=America/Chicago:20180724T080000
DTEND;TZID=America/Chicago:20180728T170000
DTSTAMP:20260424T223927
CREATED:20180623T185620Z
LAST-MODIFIED:20180803T233942Z
UID:6657-1532419200-1532797200@avaunity.com
SUMMARY:CompTIA Security+
DESCRIPTION:You must use a voucher code to schedule this course. The voucher code is issued when you purchase the CompTIA Security+ Premium Access plan or the CompTIA Cloud Security Technologist Premium  Access plan
URL:https://avaunity.com/event/comptia-security/
LOCATION:ONLINE
CATEGORIES:CompTIA,Event/Course Calendar
ORGANIZER;CN="Ava Academy":MAILTO:academy@avaunity.com
END:VEVENT
END:VCALENDAR