BEGIN:VCALENDAR
VERSION:2.0
PRODID:-//AvaUnity - ECPv6.15.3//NONSGML v1.0//EN
CALSCALE:GREGORIAN
METHOD:PUBLISH
X-WR-CALNAME:AvaUnity
X-ORIGINAL-URL:https://avaunity.com
X-WR-CALDESC:Events for AvaUnity
REFRESH-INTERVAL;VALUE=DURATION:PT1H
X-Robots-Tag:noindex
X-PUBLISHED-TTL:PT1H
BEGIN:VTIMEZONE
TZID:America/Chicago
BEGIN:DAYLIGHT
TZOFFSETFROM:-0600
TZOFFSETTO:-0500
TZNAME:CDT
DTSTART:20180311T080000
END:DAYLIGHT
BEGIN:STANDARD
TZOFFSETFROM:-0500
TZOFFSETTO:-0600
TZNAME:CST
DTSTART:20181104T070000
END:STANDARD
BEGIN:DAYLIGHT
TZOFFSETFROM:-0600
TZOFFSETTO:-0500
TZNAME:CDT
DTSTART:20190310T080000
END:DAYLIGHT
BEGIN:STANDARD
TZOFFSETFROM:-0500
TZOFFSETTO:-0600
TZNAME:CST
DTSTART:20191103T070000
END:STANDARD
END:VTIMEZONE
BEGIN:VEVENT
DTSTART;TZID=America/Chicago:20190114T090000
DTEND;TZID=America/Chicago:20190117T170000
DTSTAMP:20260424T193702
CREATED:20181116T004532Z
LAST-MODIFIED:20181116T004532Z
UID:8745-1547456400-1547744400@avaunity.com
SUMMARY:CompTIA Server+
DESCRIPTION:
URL:https://avaunity.com/event/comptia-server/
LOCATION:ONLINE
CATEGORIES:CompTIA,Event/Course Calendar
ORGANIZER;CN="Ava Academy":MAILTO:academy@avaunity.com
END:VEVENT
BEGIN:VEVENT
DTSTART;TZID=America/Chicago:20190107T090000
DTEND;TZID=America/Chicago:20190111T170000
DTSTAMP:20260424T193702
CREATED:20181114T191538Z
LAST-MODIFIED:20190610T152207Z
UID:8735-1546851600-1547226000@avaunity.com
SUMMARY:CompTIA Network+
DESCRIPTION:
URL:https://avaunity.com/event/comptia-network/
LOCATION:ONLINE
CATEGORIES:CompTIA,Event/Course Calendar
ORGANIZER;CN="Ava Academy":MAILTO:academy@avaunity.com
END:VEVENT
BEGIN:VEVENT
DTSTART;TZID=America/Chicago:20181030T090000
DTEND;TZID=America/Chicago:20181030T170000
DTSTAMP:20260424T193702
CREATED:20181010T014017Z
LAST-MODIFIED:20181010T014017Z
UID:8416-1540890000-1540918800@avaunity.com
SUMMARY:Digital Entrepreneurship: Vision\, Leadership & Innovation
DESCRIPTION:
URL:https://avaunity.com/event/digital-entrepreneurship-vision-leadership-innovation/
LOCATION:ONLINE
CATEGORIES:Digital Entrepreneur Series
ORGANIZER;CN="Ava Academy":MAILTO:academy@avaunity.com
END:VEVENT
BEGIN:VEVENT
DTSTART;TZID=America/Chicago:20180926T160000
DTEND;TZID=America/Chicago:20180926T163000
DTSTAMP:20260424T193702
CREATED:20180912T232619Z
LAST-MODIFIED:20180915T025643Z
UID:8301-1537977600-1537979400@avaunity.com
SUMMARY:The Art of Personal Branding & Social Selling
DESCRIPTION:About Your Speaker  \nTerry Sullivan is the founder of BuzzPro\, a nationally recognized Integrated Marketing and Social Media training company that helps companies and professionals get better results with LinkedIn. Terry shows his clients how to fill their sales funnels with better leads\, schedule more appointments and close more sales using advanced LinkedIn branding and Social Selling strategies. \nWidely considered to be a Guru of LinkedIn\, Terry has trained more than 6\,200 business leaders\, owners and individuals across the nation on how to create a unique online brand that gets results. His inspiring training programs focus on keyword optimization\, branding\, and Social Selling strategies that help his clients tap into the unlimited world of Social Media to get more prospects\, leads and clients. \nIn today’s presentation\, Terry will walk you through the key branding and Social Selling strategies\, tips and secrets you need to create a well-branded LinkedIn profile that gets results. \nLet’s welcome Terry!
URL:https://avaunity.com/event/the-art-of-personal-branding-social-selling/
LOCATION:ONLINE
CATEGORIES:Event/Course Calendar,Webinar
ATTACH;FMTTYPE=image/png:https://avaunity.com/wp-content/uploads/2018/09/terry_sullivan.png
ORGANIZER;CN="Ava Community":MAILTO:community@avaunity.com
END:VEVENT
BEGIN:VEVENT
DTSTART;TZID=America/Chicago:20180820T090000
DTEND;TZID=America/Chicago:20180824T170000
DTSTAMP:20260424T193702
CREATED:20180726T010337Z
LAST-MODIFIED:20180802T054248Z
UID:7756-1534755600-1535130000@avaunity.com
SUMMARY:CompTIA Project+
DESCRIPTION:You must purchase one of the following courses to view and schedule the live\, online course on the Event Calendar: \n\nCompTIA Project+ Premium Access\nCompTIA Project+ VIP Access\nCompTIA Cloud Project Manager Premium Access\nCompTIA Cloud Project Manager VIP Accesss\n\nOnce you have purchased one of the plans above\, you will receive a voucher code via e-mail that will allow you to schedule the course up to 3 times during a 6-month period.
URL:https://avaunity.com/event/comptia-project/
LOCATION:ONLINE
CATEGORIES:CompTIA,Event/Course Calendar
ORGANIZER;CN="Ava Academy":MAILTO:academy@avaunity.com
END:VEVENT
BEGIN:VEVENT
DTSTART;TZID=America/Chicago:20180813T090000
DTEND;TZID=America/Chicago:20180815T170000
DTSTAMP:20260424T193702
CREATED:20180727T190453Z
LAST-MODIFIED:20180803T234225Z
UID:7832-1534150800-1534352400@avaunity.com
SUMMARY:CompTIA IT Fundamentals
DESCRIPTION:You must first purchase one of the following courses prior to scheduling the live\, online course: \n\nCompTIA IT Fundamentals Premium Access\nCompTIA IT Fundamentals VIP Access\nCompTIA IT Associate Premium Access\nCompTIA IT Associate VIP Access\n\nOnce you purchase one of the above courses\, you will receive a voucher code in a separate e-mail that will be available in the cart and applied to the course to confirm your attendance in the virtual online course.
URL:https://avaunity.com/event/comptia-it-fundamentals/
LOCATION:ONLINE
CATEGORIES:CompTIA,Event/Course Calendar
ORGANIZER;CN="Ava Academy":MAILTO:academy@avaunity.com
END:VEVENT
BEGIN:VEVENT
DTSTART;TZID=America/Chicago:20180806T090000
DTEND;TZID=America/Chicago:20180810T170000
DTSTAMP:20260424T193702
CREATED:20180430T154112Z
LAST-MODIFIED:20181211T163511Z
UID:1640-1533546000-1533920400@avaunity.com
SUMMARY:CompTIA Cloud Essentials
DESCRIPTION:You must use a voucher code to schedule this course. The voucher code is issued when you purchase the CompTIA Cloud Essentials Premium Access plan or the CompTIA Cloud Security Technologist Premium  Access plan
URL:https://avaunity.com/event/comptia-cloud-essentials-english/
LOCATION:ONLINE
CATEGORIES:CompTIA,Event/Course Calendar
ATTACH;FMTTYPE=image/jpeg:https://avaunity.com/wp-content/uploads/2018/04/Cloud-Essentials-Logo-1-e1525731555228.jpg
ORGANIZER;CN="Ava Academy":MAILTO:academy@avaunity.com
END:VEVENT
BEGIN:VEVENT
DTSTART;TZID=America/Chicago:20180724T080000
DTEND;TZID=America/Chicago:20180728T170000
DTSTAMP:20260424T193702
CREATED:20180623T185620Z
LAST-MODIFIED:20180803T233942Z
UID:6657-1532419200-1532797200@avaunity.com
SUMMARY:CompTIA Security+
DESCRIPTION:You must use a voucher code to schedule this course. The voucher code is issued when you purchase the CompTIA Security+ Premium Access plan or the CompTIA Cloud Security Technologist Premium  Access plan
URL:https://avaunity.com/event/comptia-security/
LOCATION:ONLINE
CATEGORIES:CompTIA,Event/Course Calendar
ORGANIZER;CN="Ava Academy":MAILTO:academy@avaunity.com
END:VEVENT
END:VCALENDAR